BEGIN:VCALENDAR
VERSION:2.0
PRODID:-//Wet&#039;suwet&#039;en First Nation - ECPv6.15.20//NONSGML v1.0//EN
CALSCALE:GREGORIAN
METHOD:PUBLISH
X-WR-CALNAME:Wet&#039;suwet&#039;en First Nation
X-ORIGINAL-URL:https://www.wetsuweten.net
X-WR-CALDESC:Events for Wet&#039;suwet&#039;en First Nation
REFRESH-INTERVAL;VALUE=DURATION:PT1H
X-Robots-Tag:noindex
X-PUBLISHED-TTL:PT1H
BEGIN:VTIMEZONE
TZID:America/Vancouver
BEGIN:DAYLIGHT
TZOFFSETFROM:-0800
TZOFFSETTO:-0700
TZNAME:PDT
DTSTART:20250309T100000
END:DAYLIGHT
BEGIN:STANDARD
TZOFFSETFROM:-0700
TZOFFSETTO:-0800
TZNAME:PST
DTSTART:20251102T090000
END:STANDARD
BEGIN:DAYLIGHT
TZOFFSETFROM:-0800
TZOFFSETTO:-0700
TZNAME:PDT
DTSTART:20260308T100000
END:DAYLIGHT
BEGIN:STANDARD
TZOFFSETFROM:-0700
TZOFFSETTO:-0800
TZNAME:PST
DTSTART:20261101T090000
END:STANDARD
BEGIN:DAYLIGHT
TZOFFSETFROM:-0800
TZOFFSETTO:-0700
TZNAME:PDT
DTSTART:20270314T100000
END:DAYLIGHT
BEGIN:STANDARD
TZOFFSETFROM:-0700
TZOFFSETTO:-0800
TZNAME:PST
DTSTART:20271107T090000
END:STANDARD
BEGIN:DAYLIGHT
TZOFFSETFROM:-0800
TZOFFSETTO:-0700
TZNAME:PDT
DTSTART:20280312T100000
END:DAYLIGHT
BEGIN:STANDARD
TZOFFSETFROM:-0700
TZOFFSETTO:-0800
TZNAME:PST
DTSTART:20281105T090000
END:STANDARD
END:VTIMEZONE
BEGIN:VEVENT
DTSTART;TZID=America/Vancouver:20261012T000000
DTEND;TZID=America/Vancouver:20261012T235959
DTSTAMP:20260421T061449
CREATED:20260204T195643Z
LAST-MODIFIED:20260204T195644Z
UID:1333-1791763200-1791849599@www.wetsuweten.net
SUMMARY:Thanksgiving
DESCRIPTION:Office closed.
URL:https://www.wetsuweten.net/event/thanksgiving/
ATTACH;FMTTYPE=image/jpeg:https://www.wetsuweten.net/wp-content/uploads/2021/08/fpic1024x768-events.jpg
END:VEVENT
BEGIN:VEVENT
DTSTART;TZID=America/Vancouver:20261031T000000
DTEND;TZID=America/Vancouver:20261031T235959
DTSTAMP:20260421T061449
CREATED:20260204T195713Z
LAST-MODIFIED:20260204T195715Z
UID:1335-1793404800-1793491199@www.wetsuweten.net
SUMMARY:Hallowe’en
DESCRIPTION:
URL:https://www.wetsuweten.net/event/halloween/
ATTACH;FMTTYPE=image/jpeg:https://www.wetsuweten.net/wp-content/uploads/2021/08/fpic1024x768-events.jpg
END:VEVENT
BEGIN:VEVENT
DTSTART;TZID=America/Vancouver:20261108T000000
DTEND;TZID=America/Vancouver:20261108T235959
DTSTAMP:20260421T061449
CREATED:20260204T195744Z
LAST-MODIFIED:20260204T195746Z
UID:1337-1794096000-1794182399@www.wetsuweten.net
SUMMARY:Indigenous Veterans Day
DESCRIPTION:
URL:https://www.wetsuweten.net/event/indigenous-veterans-day/
ATTACH;FMTTYPE=image/jpeg:https://www.wetsuweten.net/wp-content/uploads/2021/08/fpic1024x768-events.jpg
END:VEVENT
BEGIN:VEVENT
DTSTART;TZID=America/Vancouver:20261111T000000
DTEND;TZID=America/Vancouver:20261111T235959
DTSTAMP:20260421T061449
CREATED:20260204T195815Z
LAST-MODIFIED:20260204T195817Z
UID:1339-1794355200-1794441599@www.wetsuweten.net
SUMMARY:Remembrance Day
DESCRIPTION:Office closed.
URL:https://www.wetsuweten.net/event/remembrance-day/
ATTACH;FMTTYPE=image/jpeg:https://www.wetsuweten.net/wp-content/uploads/2021/08/fpic1024x768-events.jpg
END:VEVENT
BEGIN:VEVENT
DTSTART;TZID=America/Vancouver:20261120T000000
DTEND;TZID=America/Vancouver:20261120T235959
DTSTAMP:20260421T061449
CREATED:20260204T195840Z
LAST-MODIFIED:20260204T195842Z
UID:1341-1795132800-1795219199@www.wetsuweten.net
SUMMARY:National Child Day
DESCRIPTION:
URL:https://www.wetsuweten.net/event/national-child-day/
ATTACH;FMTTYPE=image/jpeg:https://www.wetsuweten.net/wp-content/uploads/2021/08/fpic1024x768-events.jpg
END:VEVENT
BEGIN:VEVENT
DTSTART;TZID=America/Vancouver:20261222T000000
DTEND;TZID=America/Vancouver:20270102T235959
DTSTAMP:20260421T061449
CREATED:20260204T195932Z
LAST-MODIFIED:20260204T195934Z
UID:1343-1797897600-1798934399@www.wetsuweten.net
SUMMARY:Office Closed
DESCRIPTION:
URL:https://www.wetsuweten.net/event/office-closed/
ATTACH;FMTTYPE=image/jpeg:https://www.wetsuweten.net/wp-content/uploads/2021/08/fpic1024x768-events.jpg
END:VEVENT
BEGIN:VEVENT
DTSTART;TZID=America/Vancouver:20261225T000000
DTEND;TZID=America/Vancouver:20261225T235959
DTSTAMP:20260421T061449
CREATED:20260204T200005Z
LAST-MODIFIED:20260204T200014Z
UID:1345-1798156800-1798243199@www.wetsuweten.net
SUMMARY:Christmas Day
DESCRIPTION:Office Closed
URL:https://www.wetsuweten.net/event/christmas-day/
ATTACH;FMTTYPE=image/jpeg:https://www.wetsuweten.net/wp-content/uploads/2021/08/fpic1024x768-events.jpg
END:VEVENT
BEGIN:VEVENT
DTSTART;TZID=America/Vancouver:20261226T000000
DTEND;TZID=America/Vancouver:20261226T235959
DTSTAMP:20260421T061449
CREATED:20260204T200045Z
LAST-MODIFIED:20260204T200047Z
UID:1347-1798243200-1798329599@www.wetsuweten.net
SUMMARY:Boxing Day
DESCRIPTION:Office closed.
URL:https://www.wetsuweten.net/event/boxing-day/
ATTACH;FMTTYPE=image/jpeg:https://www.wetsuweten.net/wp-content/uploads/2021/08/fpic1024x768-events.jpg
END:VEVENT
BEGIN:VEVENT
DTSTART;TZID=America/Vancouver:20261231T000000
DTEND;TZID=America/Vancouver:20261231T235959
DTSTAMP:20260421T061449
CREATED:20260204T200247Z
LAST-MODIFIED:20260204T200248Z
UID:1349-1798675200-1798761599@www.wetsuweten.net
SUMMARY:New Year's Eve
DESCRIPTION:Office closed.
URL:https://www.wetsuweten.net/event/new-years-eve/
ATTACH;FMTTYPE=image/jpeg:https://www.wetsuweten.net/wp-content/uploads/2021/08/fpic1024x768-events.jpg
END:VEVENT
END:VCALENDAR