BEGIN:VCALENDAR
VERSION:2.0
PRODID:-//Wet&#039;suwet&#039;en First Nation - ECPv6.15.20//NONSGML v1.0//EN
CALSCALE:GREGORIAN
METHOD:PUBLISH
X-ORIGINAL-URL:https://www.wetsuweten.net
X-WR-CALDESC:Events for Wet&#039;suwet&#039;en First Nation
REFRESH-INTERVAL;VALUE=DURATION:PT1H
X-Robots-Tag:noindex
X-PUBLISHED-TTL:PT1H
BEGIN:VTIMEZONE
TZID:America/Vancouver
BEGIN:DAYLIGHT
TZOFFSETFROM:-0800
TZOFFSETTO:-0700
TZNAME:PDT
DTSTART:20210314T100000
END:DAYLIGHT
BEGIN:STANDARD
TZOFFSETFROM:-0700
TZOFFSETTO:-0800
TZNAME:PST
DTSTART:20211107T090000
END:STANDARD
BEGIN:DAYLIGHT
TZOFFSETFROM:-0800
TZOFFSETTO:-0700
TZNAME:PDT
DTSTART:20220313T100000
END:DAYLIGHT
BEGIN:STANDARD
TZOFFSETFROM:-0700
TZOFFSETTO:-0800
TZNAME:PST
DTSTART:20221106T090000
END:STANDARD
BEGIN:DAYLIGHT
TZOFFSETFROM:-0800
TZOFFSETTO:-0700
TZNAME:PDT
DTSTART:20230312T100000
END:DAYLIGHT
BEGIN:STANDARD
TZOFFSETFROM:-0700
TZOFFSETTO:-0800
TZNAME:PST
DTSTART:20231105T090000
END:STANDARD
BEGIN:DAYLIGHT
TZOFFSETFROM:-0800
TZOFFSETTO:-0700
TZNAME:PDT
DTSTART:20240310T100000
END:DAYLIGHT
BEGIN:STANDARD
TZOFFSETFROM:-0700
TZOFFSETTO:-0800
TZNAME:PST
DTSTART:20241103T090000
END:STANDARD
BEGIN:DAYLIGHT
TZOFFSETFROM:-0800
TZOFFSETTO:-0700
TZNAME:PDT
DTSTART:20250309T100000
END:DAYLIGHT
BEGIN:STANDARD
TZOFFSETFROM:-0700
TZOFFSETTO:-0800
TZNAME:PST
DTSTART:20251102T090000
END:STANDARD
BEGIN:DAYLIGHT
TZOFFSETFROM:-0800
TZOFFSETTO:-0700
TZNAME:PDT
DTSTART:20260308T100000
END:DAYLIGHT
BEGIN:STANDARD
TZOFFSETFROM:-0700
TZOFFSETTO:-0800
TZNAME:PST
DTSTART:20261101T090000
END:STANDARD
BEGIN:DAYLIGHT
TZOFFSETFROM:-0800
TZOFFSETTO:-0700
TZNAME:PDT
DTSTART:20270314T100000
END:DAYLIGHT
BEGIN:STANDARD
TZOFFSETFROM:-0700
TZOFFSETTO:-0800
TZNAME:PST
DTSTART:20271107T090000
END:STANDARD
END:VTIMEZONE
BEGIN:VEVENT
DTSTART;TZID=America/Vancouver:20260419T000000
DTEND;TZID=America/Vancouver:20260419T235959
DTSTAMP:20260421T062553
CREATED:20260204T194747Z
LAST-MODIFIED:20260204T194749Z
UID:1306-1776556800-1776643199@www.wetsuweten.net
SUMMARY:Vancouver Sun Run
DESCRIPTION:
URL:https://www.wetsuweten.net/event/vancouver-sun-run/
ATTACH;FMTTYPE=image/jpeg:https://www.wetsuweten.net/wp-content/uploads/2021/08/fpic1024x768-events.jpg
END:VEVENT
BEGIN:VEVENT
DTSTART;TZID=America/Vancouver:20260406T000000
DTEND;TZID=America/Vancouver:20260406T235959
DTSTAMP:20260421T062553
CREATED:20260204T194659Z
LAST-MODIFIED:20260204T194701Z
UID:1304-1775433600-1775519999@www.wetsuweten.net
SUMMARY:Easter Monday
DESCRIPTION:Office closed.
URL:https://www.wetsuweten.net/event/easter-monday/
ATTACH;FMTTYPE=image/jpeg:https://www.wetsuweten.net/wp-content/uploads/2021/08/fpic1024x768-events.jpg
END:VEVENT
BEGIN:VEVENT
DTSTART;TZID=America/Vancouver:20260403T000000
DTEND;TZID=America/Vancouver:20260403T235959
DTSTAMP:20260421T062553
CREATED:20260204T194622Z
LAST-MODIFIED:20260204T194624Z
UID:1302-1775174400-1775260799@www.wetsuweten.net
SUMMARY:Good Friday
DESCRIPTION:Office closed.
URL:https://www.wetsuweten.net/event/good-friday/
ATTACH;FMTTYPE=image/jpeg:https://www.wetsuweten.net/wp-content/uploads/2021/08/fpic1024x768-events.jpg
END:VEVENT
BEGIN:VEVENT
DTSTART;TZID=America/Vancouver:20260331T000000
DTEND;TZID=America/Vancouver:20260331T235959
DTSTAMP:20260421T062553
CREATED:20260204T194530Z
LAST-MODIFIED:20260204T194532Z
UID:1300-1774915200-1775001599@www.wetsuweten.net
SUMMARY:National Indigenous Languages Day
DESCRIPTION:
URL:https://www.wetsuweten.net/event/national-indigenous-languages-day/
ATTACH;FMTTYPE=image/jpeg:https://www.wetsuweten.net/wp-content/uploads/2021/08/fpic1024x768-events.jpg
END:VEVENT
BEGIN:VEVENT
DTSTART;TZID=America/Vancouver:20260316T000000
DTEND;TZID=America/Vancouver:20260327T235959
DTSTAMP:20260421T062553
CREATED:20260204T194453Z
LAST-MODIFIED:20260204T194454Z
UID:1298-1773619200-1774655999@www.wetsuweten.net
SUMMARY:Spring Break for School
DESCRIPTION:
URL:https://www.wetsuweten.net/event/spring-break-for-school/
ATTACH;FMTTYPE=image/jpeg:https://www.wetsuweten.net/wp-content/uploads/2021/08/fpic1024x768-events.jpg
END:VEVENT
BEGIN:VEVENT
DTSTART;TZID=America/Vancouver:20260308T000000
DTEND;TZID=America/Vancouver:20260308T235959
DTSTAMP:20260421T062553
CREATED:20260204T194318Z
LAST-MODIFIED:20260204T194320Z
UID:1296-1772928000-1773014399@www.wetsuweten.net
SUMMARY:International Women’s Day
DESCRIPTION:
URL:https://www.wetsuweten.net/event/international-womens-day/
ATTACH;FMTTYPE=image/jpeg:https://www.wetsuweten.net/wp-content/uploads/2021/08/fpic1024x768-events.jpg
END:VEVENT
BEGIN:VEVENT
DTSTART;TZID=America/Vancouver:20260225T000000
DTEND;TZID=America/Vancouver:20260225T235959
DTSTAMP:20260421T062553
CREATED:20260204T194205Z
LAST-MODIFIED:20260204T194220Z
UID:1294-1771977600-1772063999@www.wetsuweten.net
SUMMARY:Pink Shirt Day
DESCRIPTION:
URL:https://www.wetsuweten.net/event/pink-shirt-day/
ATTACH;FMTTYPE=image/jpeg:https://www.wetsuweten.net/wp-content/uploads/2021/08/fpic1024x768-events.jpg
END:VEVENT
BEGIN:VEVENT
DTSTART;TZID=America/Vancouver:20260216T000000
DTEND;TZID=America/Vancouver:20260216T235959
DTSTAMP:20260421T062553
CREATED:20260204T194105Z
LAST-MODIFIED:20260204T194107Z
UID:1292-1771200000-1771286399@www.wetsuweten.net
SUMMARY:Family Day
DESCRIPTION:Office closed.
URL:https://www.wetsuweten.net/event/family-day/
ATTACH;FMTTYPE=image/jpeg:https://www.wetsuweten.net/wp-content/uploads/2021/08/fpic1024x768-events.jpg
END:VEVENT
BEGIN:VEVENT
DTSTART;TZID=America/Vancouver:20230208T100000
DTEND;TZID=America/Vancouver:20230208T150000
DTSTAMP:20260421T062553
CREATED:20230206T200302Z
LAST-MODIFIED:20231211T215109Z
UID:981-1675850400-1675868400@www.wetsuweten.net
SUMMARY:Community Members Meeting
DESCRIPTION:Leadership and Staff reports. Audit presentation. Over Zoom. Elders only at the hall
URL:https://www.wetsuweten.net/event/community-members-meeting/
ATTACH;FMTTYPE=image/jpeg:https://www.wetsuweten.net/wp-content/uploads/2022/04/discover-bg-image.jpg
END:VEVENT
BEGIN:VEVENT
DTSTART;TZID=America/Vancouver:20221121T130000
DTEND;TZID=America/Vancouver:20221122T153000
DTSTAMP:20260421T062553
CREATED:20221116T234307Z
LAST-MODIFIED:20221116T234307Z
UID:974-1669035600-1669131000@www.wetsuweten.net
SUMMARY:Two days: Information Session & training with FNESS
DESCRIPTION:Date: November 21\, 2022  \n\n\n\nTime:1:00-3:00pm  \n\n\n\nPlace: Nec’igeh Beyikh  \n\n\n\nFirst Nations’ Emergency Services Society (FNESS) and partner agencies; Emergency Management BC (EMBC)\, First Nations Health Authority (FNHA) and Regional District of Buckley-Nechako (RDBN) to do presentations for the community. We want to inform the community about services and if they are interested in the training to be on the committee.  \n\n\n\nNovember 22\, 2022 \n\n\n\nTime: 9:30am – 3:30pm \n\n\n\nPlace: Nec’igeh Beyikh \n\n\n\nEmergency Operations Committee Training. Lunch will be provided.
URL:https://www.wetsuweten.net/event/two-days-information-session-training-with-fness/
ATTACH;FMTTYPE=image/jpeg:https://www.wetsuweten.net/wp-content/uploads/2022/04/discover-bg-image.jpg
END:VEVENT
END:VCALENDAR