BEGIN:VCALENDAR
VERSION:2.0
PRODID:-//Wet&#039;suwet&#039;en First Nation - ECPv6.15.20//NONSGML v1.0//EN
CALSCALE:GREGORIAN
METHOD:PUBLISH
X-WR-CALNAME:Wet&#039;suwet&#039;en First Nation
X-ORIGINAL-URL:https://www.wetsuweten.net
X-WR-CALDESC:Events for Wet&#039;suwet&#039;en First Nation
REFRESH-INTERVAL;VALUE=DURATION:PT1H
X-Robots-Tag:noindex
X-PUBLISHED-TTL:PT1H
BEGIN:VTIMEZONE
TZID:America/Vancouver
BEGIN:DAYLIGHT
TZOFFSETFROM:-0800
TZOFFSETTO:-0700
TZNAME:PDT
DTSTART:20250309T100000
END:DAYLIGHT
BEGIN:STANDARD
TZOFFSETFROM:-0700
TZOFFSETTO:-0800
TZNAME:PST
DTSTART:20251102T090000
END:STANDARD
BEGIN:DAYLIGHT
TZOFFSETFROM:-0800
TZOFFSETTO:-0700
TZNAME:PDT
DTSTART:20260308T100000
END:DAYLIGHT
BEGIN:STANDARD
TZOFFSETFROM:-0700
TZOFFSETTO:-0800
TZNAME:PST
DTSTART:20261101T090000
END:STANDARD
BEGIN:DAYLIGHT
TZOFFSETFROM:-0800
TZOFFSETTO:-0700
TZNAME:PDT
DTSTART:20270314T100000
END:DAYLIGHT
BEGIN:STANDARD
TZOFFSETFROM:-0700
TZOFFSETTO:-0800
TZNAME:PST
DTSTART:20271107T090000
END:STANDARD
BEGIN:DAYLIGHT
TZOFFSETFROM:-0800
TZOFFSETTO:-0700
TZNAME:PDT
DTSTART:20280312T100000
END:DAYLIGHT
BEGIN:STANDARD
TZOFFSETFROM:-0700
TZOFFSETTO:-0800
TZNAME:PST
DTSTART:20281105T090000
END:STANDARD
END:VTIMEZONE
BEGIN:VEVENT
DTSTART;TZID=America/Vancouver:20260422T000000
DTEND;TZID=America/Vancouver:20260422T235959
DTSTAMP:20260421T035310
CREATED:20260204T194832Z
LAST-MODIFIED:20260204T194834Z
UID:1309-1776816000-1776902399@www.wetsuweten.net
SUMMARY:Earth Day
DESCRIPTION:
URL:https://www.wetsuweten.net/event/earth-day/
ATTACH;FMTTYPE=image/jpeg:https://www.wetsuweten.net/wp-content/uploads/2021/08/fpic1024x768-events.jpg
END:VEVENT
BEGIN:VEVENT
DTSTART;TZID=America/Vancouver:20260505T000000
DTEND;TZID=America/Vancouver:20260505T235959
DTSTAMP:20260421T035310
CREATED:20260204T194904Z
LAST-MODIFIED:20260204T194905Z
UID:1311-1777939200-1778025599@www.wetsuweten.net
SUMMARY:Red Dress Day
DESCRIPTION:
URL:https://www.wetsuweten.net/event/red-dress-day/
ATTACH;FMTTYPE=image/jpeg:https://www.wetsuweten.net/wp-content/uploads/2021/08/fpic1024x768-events.jpg
END:VEVENT
BEGIN:VEVENT
DTSTART;TZID=America/Vancouver:20260510T000000
DTEND;TZID=America/Vancouver:20260510T235959
DTSTAMP:20260421T035310
CREATED:20260204T194936Z
LAST-MODIFIED:20260204T194937Z
UID:1313-1778371200-1778457599@www.wetsuweten.net
SUMMARY:Mother’s Day
DESCRIPTION:
URL:https://www.wetsuweten.net/event/mothers-day/
ATTACH;FMTTYPE=image/jpeg:https://www.wetsuweten.net/wp-content/uploads/2021/08/fpic1024x768-events.jpg
END:VEVENT
BEGIN:VEVENT
DTSTART;TZID=America/Vancouver:20260518T000000
DTEND;TZID=America/Vancouver:20260518T235959
DTSTAMP:20260421T035310
CREATED:20260204T195007Z
LAST-MODIFIED:20260204T195009Z
UID:1315-1779062400-1779148799@www.wetsuweten.net
SUMMARY:Victoria Day
DESCRIPTION:Office closed.
URL:https://www.wetsuweten.net/event/victoria-day/
ATTACH;FMTTYPE=image/jpeg:https://www.wetsuweten.net/wp-content/uploads/2021/08/fpic1024x768-events.jpg
END:VEVENT
BEGIN:VEVENT
DTSTART;TZID=America/Vancouver:20260601T000000
DTEND;TZID=America/Vancouver:20260630T235959
DTSTAMP:20260421T035310
CREATED:20260204T195052Z
LAST-MODIFIED:20260204T195054Z
UID:1317-1780272000-1782863999@www.wetsuweten.net
SUMMARY:National Indigenous History Month
DESCRIPTION:
URL:https://www.wetsuweten.net/event/national-indigenous-history-month/
ATTACH;FMTTYPE=image/jpeg:https://www.wetsuweten.net/wp-content/uploads/2021/08/fpic1024x768-events.jpg
END:VEVENT
BEGIN:VEVENT
DTSTART;TZID=America/Vancouver:20260621T000000
DTEND;TZID=America/Vancouver:20260621T235959
DTSTAMP:20260421T035310
CREATED:20260204T195124Z
LAST-MODIFIED:20260204T195125Z
UID:1319-1782000000-1782086399@www.wetsuweten.net
SUMMARY:National Indigenous Peoples Day
DESCRIPTION:
URL:https://www.wetsuweten.net/event/national-indigenous-peoples-day/
ATTACH;FMTTYPE=image/jpeg:https://www.wetsuweten.net/wp-content/uploads/2021/08/fpic1024x768-events.jpg
END:VEVENT
BEGIN:VEVENT
DTSTART;TZID=America/Vancouver:20260621T000000
DTEND;TZID=America/Vancouver:20260621T235959
DTSTAMP:20260421T035310
CREATED:20260204T195150Z
LAST-MODIFIED:20260204T195152Z
UID:1321-1782000000-1782086399@www.wetsuweten.net
SUMMARY:Father’s Day
DESCRIPTION:
URL:https://www.wetsuweten.net/event/fathers-day/
ATTACH;FMTTYPE=image/jpeg:https://www.wetsuweten.net/wp-content/uploads/2021/08/fpic1024x768-events.jpg
END:VEVENT
BEGIN:VEVENT
DTSTART;TZID=America/Vancouver:20260625T000000
DTEND;TZID=America/Vancouver:20260625T235959
DTSTAMP:20260421T035310
CREATED:20260204T195234Z
LAST-MODIFIED:20260204T195236Z
UID:1323-1782345600-1782431999@www.wetsuweten.net
SUMMARY:Last Day of School
DESCRIPTION:Last Day of School – Lakes District Secondary School
URL:https://www.wetsuweten.net/event/last-day-of-school/
ATTACH;FMTTYPE=image/jpeg:https://www.wetsuweten.net/wp-content/uploads/2021/08/fpic1024x768-events.jpg
END:VEVENT
BEGIN:VEVENT
DTSTART;TZID=America/Vancouver:20260701T000000
DTEND;TZID=America/Vancouver:20260701T235959
DTSTAMP:20260421T035310
CREATED:20260204T195340Z
LAST-MODIFIED:20260204T195342Z
UID:1325-1782864000-1782950399@www.wetsuweten.net
SUMMARY:Canada Day Statutory Holiday
DESCRIPTION:Office closed.
URL:https://www.wetsuweten.net/event/canada-day-statutory-holiday/
ATTACH;FMTTYPE=image/jpeg:https://www.wetsuweten.net/wp-content/uploads/2021/08/fpic1024x768-events.jpg
END:VEVENT
BEGIN:VEVENT
DTSTART;TZID=America/Vancouver:20260803T000000
DTEND;TZID=America/Vancouver:20260803T235959
DTSTAMP:20260421T035310
CREATED:20260204T195414Z
LAST-MODIFIED:20260204T195415Z
UID:1327-1785715200-1785801599@www.wetsuweten.net
SUMMARY:BC Day Statutory Holiday
DESCRIPTION:Office closed.
URL:https://www.wetsuweten.net/event/bc-day-statutory-holiday/
ATTACH;FMTTYPE=image/jpeg:https://www.wetsuweten.net/wp-content/uploads/2021/08/fpic1024x768-events.jpg
END:VEVENT
BEGIN:VEVENT
DTSTART;TZID=America/Vancouver:20260907T000000
DTEND;TZID=America/Vancouver:20260907T235959
DTSTAMP:20260421T035310
CREATED:20260204T195444Z
LAST-MODIFIED:20260204T195446Z
UID:1329-1788739200-1788825599@www.wetsuweten.net
SUMMARY:Labour Day
DESCRIPTION:Office closed.
URL:https://www.wetsuweten.net/event/labour-day/
ATTACH;FMTTYPE=image/jpeg:https://www.wetsuweten.net/wp-content/uploads/2021/08/fpic1024x768-events.jpg
END:VEVENT
BEGIN:VEVENT
DTSTART;TZID=America/Vancouver:20260930T000000
DTEND;TZID=America/Vancouver:20260930T235959
DTSTAMP:20260421T035310
CREATED:20260204T195609Z
LAST-MODIFIED:20260204T195611Z
UID:1331-1790726400-1790812799@www.wetsuweten.net
SUMMARY:National Day for Truth and Reconciliation / Orange Shirt Day
DESCRIPTION:Office closed.
URL:https://www.wetsuweten.net/event/national-day-for-truth-and-reconciliation-orange-shirt-day/
ATTACH;FMTTYPE=image/jpeg:https://www.wetsuweten.net/wp-content/uploads/2021/08/fpic1024x768-events.jpg
END:VEVENT
BEGIN:VEVENT
DTSTART;TZID=America/Vancouver:20261012T000000
DTEND;TZID=America/Vancouver:20261012T235959
DTSTAMP:20260421T035310
CREATED:20260204T195643Z
LAST-MODIFIED:20260204T195644Z
UID:1333-1791763200-1791849599@www.wetsuweten.net
SUMMARY:Thanksgiving
DESCRIPTION:Office closed.
URL:https://www.wetsuweten.net/event/thanksgiving/
ATTACH;FMTTYPE=image/jpeg:https://www.wetsuweten.net/wp-content/uploads/2021/08/fpic1024x768-events.jpg
END:VEVENT
BEGIN:VEVENT
DTSTART;TZID=America/Vancouver:20261031T000000
DTEND;TZID=America/Vancouver:20261031T235959
DTSTAMP:20260421T035310
CREATED:20260204T195713Z
LAST-MODIFIED:20260204T195715Z
UID:1335-1793404800-1793491199@www.wetsuweten.net
SUMMARY:Hallowe’en
DESCRIPTION:
URL:https://www.wetsuweten.net/event/halloween/
ATTACH;FMTTYPE=image/jpeg:https://www.wetsuweten.net/wp-content/uploads/2021/08/fpic1024x768-events.jpg
END:VEVENT
BEGIN:VEVENT
DTSTART;TZID=America/Vancouver:20261108T000000
DTEND;TZID=America/Vancouver:20261108T235959
DTSTAMP:20260421T035310
CREATED:20260204T195744Z
LAST-MODIFIED:20260204T195746Z
UID:1337-1794096000-1794182399@www.wetsuweten.net
SUMMARY:Indigenous Veterans Day
DESCRIPTION:
URL:https://www.wetsuweten.net/event/indigenous-veterans-day/
ATTACH;FMTTYPE=image/jpeg:https://www.wetsuweten.net/wp-content/uploads/2021/08/fpic1024x768-events.jpg
END:VEVENT
BEGIN:VEVENT
DTSTART;TZID=America/Vancouver:20261111T000000
DTEND;TZID=America/Vancouver:20261111T235959
DTSTAMP:20260421T035310
CREATED:20260204T195815Z
LAST-MODIFIED:20260204T195817Z
UID:1339-1794355200-1794441599@www.wetsuweten.net
SUMMARY:Remembrance Day
DESCRIPTION:Office closed.
URL:https://www.wetsuweten.net/event/remembrance-day/
ATTACH;FMTTYPE=image/jpeg:https://www.wetsuweten.net/wp-content/uploads/2021/08/fpic1024x768-events.jpg
END:VEVENT
BEGIN:VEVENT
DTSTART;TZID=America/Vancouver:20261120T000000
DTEND;TZID=America/Vancouver:20261120T235959
DTSTAMP:20260421T035310
CREATED:20260204T195840Z
LAST-MODIFIED:20260204T195842Z
UID:1341-1795132800-1795219199@www.wetsuweten.net
SUMMARY:National Child Day
DESCRIPTION:
URL:https://www.wetsuweten.net/event/national-child-day/
ATTACH;FMTTYPE=image/jpeg:https://www.wetsuweten.net/wp-content/uploads/2021/08/fpic1024x768-events.jpg
END:VEVENT
BEGIN:VEVENT
DTSTART;TZID=America/Vancouver:20261222T000000
DTEND;TZID=America/Vancouver:20270102T235959
DTSTAMP:20260421T035310
CREATED:20260204T195932Z
LAST-MODIFIED:20260204T195934Z
UID:1343-1797897600-1798934399@www.wetsuweten.net
SUMMARY:Office Closed
DESCRIPTION:
URL:https://www.wetsuweten.net/event/office-closed/
ATTACH;FMTTYPE=image/jpeg:https://www.wetsuweten.net/wp-content/uploads/2021/08/fpic1024x768-events.jpg
END:VEVENT
BEGIN:VEVENT
DTSTART;TZID=America/Vancouver:20261225T000000
DTEND;TZID=America/Vancouver:20261225T235959
DTSTAMP:20260421T035310
CREATED:20260204T200005Z
LAST-MODIFIED:20260204T200014Z
UID:1345-1798156800-1798243199@www.wetsuweten.net
SUMMARY:Christmas Day
DESCRIPTION:Office Closed
URL:https://www.wetsuweten.net/event/christmas-day/
ATTACH;FMTTYPE=image/jpeg:https://www.wetsuweten.net/wp-content/uploads/2021/08/fpic1024x768-events.jpg
END:VEVENT
BEGIN:VEVENT
DTSTART;TZID=America/Vancouver:20261226T000000
DTEND;TZID=America/Vancouver:20261226T235959
DTSTAMP:20260421T035310
CREATED:20260204T200045Z
LAST-MODIFIED:20260204T200047Z
UID:1347-1798243200-1798329599@www.wetsuweten.net
SUMMARY:Boxing Day
DESCRIPTION:Office closed.
URL:https://www.wetsuweten.net/event/boxing-day/
ATTACH;FMTTYPE=image/jpeg:https://www.wetsuweten.net/wp-content/uploads/2021/08/fpic1024x768-events.jpg
END:VEVENT
BEGIN:VEVENT
DTSTART;TZID=America/Vancouver:20261231T000000
DTEND;TZID=America/Vancouver:20261231T235959
DTSTAMP:20260421T035310
CREATED:20260204T200247Z
LAST-MODIFIED:20260204T200248Z
UID:1349-1798675200-1798761599@www.wetsuweten.net
SUMMARY:New Year's Eve
DESCRIPTION:Office closed.
URL:https://www.wetsuweten.net/event/new-years-eve/
ATTACH;FMTTYPE=image/jpeg:https://www.wetsuweten.net/wp-content/uploads/2021/08/fpic1024x768-events.jpg
END:VEVENT
END:VCALENDAR